BEGIN:VCALENDAR
VERSION:2.0
PRODID:icalendar-ruby
CALSCALE:GREGORIAN
BEGIN:VEVENT
DTSTAMP:20260421T103326Z
UID:46a8c2f4-ddf6-43fa-a0a1-2537c132c68a
DTSTART;VALUE=DATE:20241024
DESCRIPTION:Property ID# 581921\, Time: 2:00PM
SUMMARY:Auction for 
END:VEVENT
END:VCALENDAR
