BEGIN:VCALENDAR
VERSION:2.0
PRODID:icalendar-ruby
CALSCALE:GREGORIAN
BEGIN:VEVENT
DTSTAMP:20260419T154109Z
UID:36d28bb5-a63c-4842-aff7-f932f14fa889
DTSTART;VALUE=DATE:20241017
DESCRIPTION:Property ID# 581588\, Locatoin: Harcourts Auction Rooms \, Time
 : 2:00PM
SUMMARY:Auction for 
END:VEVENT
END:VCALENDAR
