BEGIN:VCALENDAR
VERSION:2.0
PRODID:icalendar-ruby
CALSCALE:GREGORIAN
BEGIN:VEVENT
DTSTAMP:20260423T105913Z
UID:111f5524-c747-4a81-9292-6c4d050d7c1d
DTSTART;VALUE=DATE:20240926
DESCRIPTION:Property ID# 580606\, Time: 2:00PM
SUMMARY:Auction for 
END:VEVENT
END:VCALENDAR
