BEGIN:VCALENDAR
VERSION:2.0
PRODID:icalendar-ruby
CALSCALE:GREGORIAN
BEGIN:VEVENT
DTSTAMP:20260419T150225Z
UID:d5bd2196-f887-47e3-a57e-4200e08cb03a
DTSTART;VALUE=DATE:20240523
DESCRIPTION:Property ID# 574950\, Time: 2:00PM
SUMMARY:Auction for 
END:VEVENT
END:VCALENDAR
