BEGIN:VCALENDAR
VERSION:2.0
PRODID:icalendar-ruby
CALSCALE:GREGORIAN
BEGIN:VEVENT
DTSTAMP:20260419T153913Z
UID:1f447471-e05e-4624-b37f-8a5751bada06
DTSTART;VALUE=DATE:20240404
DESCRIPTION:Property ID# 572164\, Time: 2:00PM
SUMMARY:Auction for 
END:VEVENT
END:VCALENDAR
