BEGIN:VCALENDAR
VERSION:2.0
PRODID:icalendar-ruby
CALSCALE:GREGORIAN
BEGIN:VEVENT
DTSTAMP:20260419T151301Z
UID:a8655f5f-883b-4304-9a1a-e9bea65354d2
DTSTART;VALUE=DATE:20240307
DESCRIPTION:Property ID# 570434\, Time: 2:00PM
SUMMARY:Auction for 
END:VEVENT
END:VCALENDAR
