BEGIN:VCALENDAR
VERSION:2.0
PRODID:icalendar-ruby
CALSCALE:GREGORIAN
BEGIN:VEVENT
DTSTAMP:20260419T151515Z
UID:415713ae-8270-45dd-9e8a-04a58645a40c
DTSTART;VALUE=DATE:20231130
DESCRIPTION:Property ID# 565318\, Time: 2:00PM
SUMMARY:Auction for 
END:VEVENT
END:VCALENDAR
