BEGIN:VCALENDAR
VERSION:2.0
PRODID:icalendar-ruby
CALSCALE:GREGORIAN
BEGIN:VEVENT
DTSTAMP:20260421T020706Z
UID:21a27203-20ea-4563-b5e3-69081396be26
DTSTART;VALUE=DATE:20210519
DESCRIPTION:Property ID# 507254\, Time: 10:00AM
SUMMARY:Auction for 
END:VEVENT
END:VCALENDAR
