BEGIN:VCALENDAR
VERSION:2.0
PRODID:icalendar-ruby
CALSCALE:GREGORIAN
BEGIN:VEVENT
DTSTAMP:20260421T061534Z
UID:36798524-c163-4613-9335-9b8f0ec1d410
DTSTART;VALUE=DATE:20210224
DESCRIPTION:Property ID# 498829\, Time: 10:00AM
SUMMARY:Auction for 
END:VEVENT
END:VCALENDAR
