BEGIN:VCALENDAR
VERSION:2.0
PRODID:icalendar-ruby
CALSCALE:GREGORIAN
BEGIN:VEVENT
DTSTAMP:20260421T020000Z
UID:a66b717b-13f7-4be4-9c94-26f58afe294f
DTSTART;VALUE=DATE:20201215
DESCRIPTION:Property ID# 496116\, Locatoin: Bayleys Auction Rooms \, Time: 
 11:00AM
SUMMARY:Auction for 
END:VEVENT
END:VCALENDAR
