BEGIN:VCALENDAR
VERSION:2.0
PRODID:icalendar-ruby
CALSCALE:GREGORIAN
BEGIN:VEVENT
DTSTAMP:20260421T061023Z
UID:513527e7-ffcb-4507-b310-7df0d6e1de4c
DTSTART;VALUE=DATE:20201210
DESCRIPTION:Property ID# 494853\, Locatoin: Bayleys Auction Rooms \, Time: 
 11:00AM
SUMMARY:Auction for 
END:VEVENT
END:VCALENDAR
