BEGIN:VCALENDAR
VERSION:2.0
PRODID:icalendar-ruby
CALSCALE:GREGORIAN
BEGIN:VEVENT
DTSTAMP:20260421T061534Z
UID:3dbc0677-733c-4060-b832-a8f35f94dbba
DTSTART;VALUE=DATE:20201019
DESCRIPTION:Property ID# 489767\, Locatoin: Bayleys Auction Rooms \, Time: 
 11:00AM
SUMMARY:Auction for 
END:VEVENT
END:VCALENDAR
