BEGIN:VCALENDAR
VERSION:2.0
PRODID:icalendar-ruby
CALSCALE:GREGORIAN
BEGIN:VEVENT
DTSTAMP:20260421T055438Z
UID:a2a0bec3-1b7f-4771-9369-f970673b27ed
DTSTART;VALUE=DATE:20200730
DESCRIPTION:Property ID# 484406\, Time: 12:00PM
SUMMARY:Auction for 
END:VEVENT
END:VCALENDAR
