BEGIN:VCALENDAR
VERSION:2.0
PRODID:icalendar-ruby
CALSCALE:GREGORIAN
BEGIN:VEVENT
DTSTAMP:20260421T020640Z
UID:629e5040-4521-4b8b-b175-773c6053fdae
DTSTART;VALUE=DATE:20200623
DESCRIPTION:Property ID# 480693\, Locatoin: Bayleys Auction Rooms (unless s
 old prior)\, Time: 12:00PM
SUMMARY:Auction for 
END:VEVENT
END:VCALENDAR
