BEGIN:VCALENDAR
VERSION:2.0
PRODID:icalendar-ruby
CALSCALE:GREGORIAN
BEGIN:VEVENT
DTSTAMP:20210120T053957Z
UID:d3d5c0f7-338d-4dd8-a09f-64e1e082179f
DTSTART;TZID=Pacific/Auckland:20210124T110000
DTEND;TZID=Pacific/Auckland:20210124T113000
DESCRIPTION:Property ID# 493061
SUMMARY:Openhome for Lot 7 Kawhia Road
END:VEVENT
END:VCALENDAR
