BEGIN:VCALENDAR
VERSION:2.0
PRODID:icalendar-ruby
CALSCALE:GREGORIAN
BEGIN:VEVENT
DTSTAMP:20210120T053102Z
UID:b9dbaef9-acba-441d-9729-717e3b8a39c7
DTSTART;VALUE=DATE:20210128
DESCRIPTION:Property ID# 499278\, Locatoin: 96 Ulster Street\, Hamilton\, T
 ime: 11:00AM
SUMMARY:Auction for Paulette Street
END:VEVENT
END:VCALENDAR
