BEGIN:VCALENDAR
VERSION:2.0
PRODID:icalendar-ruby
CALSCALE:GREGORIAN
BEGIN:VEVENT
DTSTAMP:20210120T053120Z
UID:9c7e4b3a-408d-4757-835b-5b1ebcd96d21
DTSTART;VALUE=DATE:20210128
DESCRIPTION:Property ID# 499245\, Locatoin: Lakewood Block C\, Unit 1\, 36 
 Lake Street\, Cambridge\, Time: 2:00PM
SUMMARY:Auction for 18 Lilac Close
END:VEVENT
END:VCALENDAR
