BEGIN:VCALENDAR
VERSION:2.0
PRODID:icalendar-ruby
CALSCALE:GREGORIAN
BEGIN:VEVENT
DTSTAMP:20210120T053556Z
UID:afac6a3f-1d49-48c6-9812-bbbdc5788d4d
DTSTART;VALUE=DATE:20201217
DESCRIPTION:Property ID# 496885\, Locatoin: 96 Ulster Street\, Hamilton\, T
 ime: 12:00PM
SUMMARY:Auction for 
END:VEVENT
END:VCALENDAR
