BEGIN:VCALENDAR
VERSION:2.0
PRODID:icalendar-ruby
CALSCALE:GREGORIAN
BEGIN:VEVENT
DTSTAMP:20210120T053043Z
UID:8e678191-af58-4ad6-8ca6-92539515e306
DTSTART;VALUE=DATE:20201215
DESCRIPTION:Property ID# 496154\, Time: 11:00AM
SUMMARY:Auction for Hopehill Lane
END:VEVENT
END:VCALENDAR
