BEGIN:VCALENDAR
VERSION:2.0
PRODID:icalendar-ruby
CALSCALE:GREGORIAN
BEGIN:VEVENT
DTSTAMP:20210120T054012Z
UID:bb400042-b8bd-4a4b-8b60-a83ad9099094
DTSTART;VALUE=DATE:20201209
DESCRIPTION:Property ID# 495519\, Locatoin: Auction Rooms\, 247 Cameron Roa
 d\, Tauranga. Unless sold prior\, Time: 1:00PM
SUMMARY:Auction for 
END:VEVENT
END:VCALENDAR
