BEGIN:VCALENDAR
VERSION:2.0
PRODID:icalendar-ruby
CALSCALE:GREGORIAN
BEGIN:VEVENT
DTSTAMP:20210120T054047Z
UID:52421802-626b-4a8a-b4b7-f51394766611
DTSTART;VALUE=DATE:20201126
DESCRIPTION:Property ID# 495099\, Locatoin: 96 Ulster Street\, Hamilton\, T
 ime: 11:00AM
SUMMARY:Auction for 
END:VEVENT
END:VCALENDAR
