BEGIN:VCALENDAR
VERSION:2.0
PRODID:icalendar-ruby
CALSCALE:GREGORIAN
BEGIN:VEVENT
DTSTAMP:20210120T053049Z
UID:ef59a0f8-ceed-4b05-bb0b-cb78b633ed12
DTSTART;VALUE=DATE:20201203
DESCRIPTION:Property ID# 493990\, Locatoin: 96 Ulster Street\, Hamilton\, T
 ime: 11:00AM
SUMMARY:Auction for 
END:VEVENT
END:VCALENDAR
