BEGIN:VCALENDAR
VERSION:2.0
PRODID:icalendar-ruby
CALSCALE:GREGORIAN
BEGIN:VEVENT
DTSTAMP:20210120T054024Z
UID:04055e6b-bd78-4450-9730-80d6537dc779
DTSTART;VALUE=DATE:20201118
DESCRIPTION:Property ID# 493326\, Locatoin: 247 Cameron Road\, Tauranga (un
 less sold prior)\, Time: 1:00PM
SUMMARY:Auction for 
END:VEVENT
END:VCALENDAR
