BEGIN:VCALENDAR
VERSION:2.0
PRODID:icalendar-ruby
CALSCALE:GREGORIAN
BEGIN:VEVENT
DTSTAMP:20210120T053609Z
UID:72691557-8f65-41aa-bccd-8f1b99e4e657
DTSTART;VALUE=DATE:20201216
DESCRIPTION:Property ID# 493309\, Locatoin: Bayleys\, 96 Ulster Street\, Ha
 milton\, Time: 2:00PM
SUMMARY:Auction for 
END:VEVENT
END:VCALENDAR
