BEGIN:VCALENDAR
VERSION:2.0
PRODID:icalendar-ruby
CALSCALE:GREGORIAN
BEGIN:VEVENT
DTSTAMP:20210120T053612Z
UID:ed498f19-0838-4621-93c8-839602181263
DTSTART;VALUE=DATE:20201119
DESCRIPTION:Property ID# 493307\, Locatoin: Bayleys\, 96 Ulster Street\, Ha
 milton\, Time: 12:00PM
SUMMARY:Auction for 
END:VEVENT
END:VCALENDAR
