BEGIN:VCALENDAR
VERSION:2.0
PRODID:icalendar-ruby
CALSCALE:GREGORIAN
BEGIN:VEVENT
DTSTAMP:20210120T053555Z
UID:88428e6c-9749-4c6e-9ff6-7a484bdaffb0
DTSTART;VALUE=DATE:20201105
DESCRIPTION:Property ID# 493063\, Locatoin: Bayleys 96 Ulster Street Hamilt
 on\, Time: 11:00AM
SUMMARY:Auction for B/238 Victoria Street
END:VEVENT
END:VCALENDAR
