BEGIN:VCALENDAR
VERSION:2.0
PRODID:icalendar-ruby
CALSCALE:GREGORIAN
BEGIN:VEVENT
DTSTAMP:20210120T053959Z
UID:8aa25ef1-b403-4398-974e-ee8c9951187d
DTSTART;VALUE=DATE:20201112
DESCRIPTION:Property ID# 493060\, Locatoin: 96 Ulster Street\, Hamilton\, T
 ime: 11:00AM
SUMMARY:Auction for 
END:VEVENT
END:VCALENDAR
