BEGIN:VCALENDAR
VERSION:2.0
PRODID:icalendar-ruby
CALSCALE:GREGORIAN
BEGIN:VEVENT
DTSTAMP:20210120T054049Z
UID:6acacf58-f96c-4fcb-b22f-668c7218b3db
DTSTART;VALUE=DATE:20201105
DESCRIPTION:Property ID# 492921\, Locatoin: 96 Ulster Street\, Hamilton\, T
 ime: 11:00AM
SUMMARY:Auction for 
END:VEVENT
END:VCALENDAR
