BEGIN:VCALENDAR
VERSION:2.0
PRODID:icalendar-ruby
CALSCALE:GREGORIAN
BEGIN:VEVENT
DTSTAMP:20210120T054026Z
UID:94ef285b-83ed-4085-90bb-69054d30ae13
DTSTART;VALUE=DATE:20201111
DESCRIPTION:Property ID# 492683\, Locatoin: 247 Cameron Road\, Tauranga (un
 less sold prior)\, Time: 1:00PM
SUMMARY:Auction for 
END:VEVENT
END:VCALENDAR
