BEGIN:VCALENDAR
VERSION:2.0
PRODID:icalendar-ruby
CALSCALE:GREGORIAN
BEGIN:VEVENT
DTSTAMP:20210120T054227Z
UID:cf903a2d-bf06-4d98-aa66-7579126306c2
DTSTART;VALUE=DATE:20201126
DESCRIPTION:Property ID# 492273\, Locatoin:  247 Cameron Road\, Tauranga (u
 nless sold prior)	\, Time: 4:00PM
SUMMARY:Auction for 7-13 Te Maire Street
END:VEVENT
END:VCALENDAR
