BEGIN:VCALENDAR
VERSION:2.0
PRODID:icalendar-ruby
CALSCALE:GREGORIAN
BEGIN:VEVENT
DTSTAMP:20210120T054232Z
UID:eb610930-3b98-4acc-b62f-f2fcb58815d8
DTSTART;VALUE=DATE:20201120
DESCRIPTION:Property ID# 491951\, Locatoin: 247 Cameron Road\, Tauranga\, T
 ime: 4:00PM
SUMMARY:Auction for 21 Devonport Road
END:VEVENT
END:VCALENDAR
