BEGIN:VCALENDAR
VERSION:2.0
PRODID:icalendar-ruby
CALSCALE:GREGORIAN
BEGIN:VEVENT
DTSTAMP:20210120T053122Z
UID:0aec181d-4ba5-42bc-bf4b-85c5fe7411e5
DTSTART;VALUE=DATE:20201020
DESCRIPTION:Property ID# 491813\, Time: 10:00AM
SUMMARY:Auction for 
END:VEVENT
END:VCALENDAR
