BEGIN:VCALENDAR
VERSION:2.0
PRODID:icalendar-ruby
CALSCALE:GREGORIAN
BEGIN:VEVENT
DTSTAMP:20210120T054027Z
UID:cfa207b6-5fac-4470-84ee-cfbb13df4c1d
DTSTART;VALUE=DATE:20201104
DESCRIPTION:Property ID# 491774\, Locatoin: 247 Cameron Road\, Tauranga (un
 less sold prior)\, Time: 1:00PM
SUMMARY:Auction for 
END:VEVENT
END:VCALENDAR
