BEGIN:VCALENDAR
VERSION:2.0
PRODID:icalendar-ruby
CALSCALE:GREGORIAN
BEGIN:VEVENT
DTSTAMP:20210120T054031Z
UID:85e7d77b-1656-4f9a-b5e1-a3f00c6511d0
DTSTART;VALUE=DATE:20201028
DESCRIPTION:Property ID# 491512\, Locatoin: 247 Cameron Road\, Tauranga (un
 less sold prior)\, Time: 1:00PM
SUMMARY:Auction for 
END:VEVENT
END:VCALENDAR
