BEGIN:VCALENDAR
VERSION:2.0
PRODID:icalendar-ruby
CALSCALE:GREGORIAN
BEGIN:VEVENT
DTSTAMP:20210120T053047Z
UID:fa86eb73-2c4e-47d5-94fc-41c185a435a1
DTSTART;VALUE=DATE:20201022
DESCRIPTION:Property ID# 491060\, Locatoin: 96 Ulster Street\, Hamilton\, T
 ime: 11:00AM
SUMMARY:Auction for 115a Travers Road
END:VEVENT
END:VCALENDAR
