BEGIN:VCALENDAR
VERSION:2.0
PRODID:icalendar-ruby
CALSCALE:GREGORIAN
BEGIN:VEVENT
DTSTAMP:20210120T054033Z
UID:a5c9d9ec-ee4f-4dff-abd7-23827a6f3919
DTSTART;VALUE=DATE:20201021
DESCRIPTION:Property ID# 490921\, Locatoin: 247 Cameron Road\, Tauranga \, 
 Time: 1:00PM
SUMMARY:Auction for 
END:VEVENT
END:VCALENDAR
