BEGIN:VCALENDAR
VERSION:2.0
PRODID:icalendar-ruby
CALSCALE:GREGORIAN
BEGIN:VEVENT
DTSTAMP:20210120T054034Z
UID:ca272c47-4475-4a61-82c5-bb014c83a94f
DTSTART;VALUE=DATE:20201014
DESCRIPTION:Property ID# 490569\, Locatoin: 247 Cameron Road\, Tauranga (un
 less sold prior)\, Time: 1:00PM
SUMMARY:Auction for 
END:VEVENT
END:VCALENDAR
