BEGIN:VCALENDAR
VERSION:2.0
PRODID:icalendar-ruby
CALSCALE:GREGORIAN
BEGIN:VEVENT
DTSTAMP:20210120T054036Z
UID:6baaac1c-6dd7-455f-a62b-ce6c7b0ee87c
DTSTART;VALUE=DATE:20201005
DESCRIPTION:Property ID# 490468\, Locatoin: 247 Cameron Road\, Tauranga (un
 less sold prior)\, Time: 11:00AM
SUMMARY:Auction for 
END:VEVENT
END:VCALENDAR
