BEGIN:VCALENDAR
VERSION:2.0
PRODID:icalendar-ruby
CALSCALE:GREGORIAN
BEGIN:VEVENT
DTSTAMP:20210120T052920Z
UID:8d5e9508-bf28-4960-a9e0-bba803e3f816
DTSTART;VALUE=DATE:20201008
DESCRIPTION:Property ID# 490242\, Locatoin: RayWhite Papatetoe 66 Great Sou
 th Road Papatoetoe\, Time: 4:00PM
SUMMARY:Auction for 
END:VEVENT
END:VCALENDAR
