BEGIN:VCALENDAR
VERSION:2.0
PRODID:icalendar-ruby
CALSCALE:GREGORIAN
BEGIN:VEVENT
DTSTAMP:20210120T053103Z
UID:55d6adac-88f0-4e74-a7b0-0ca5bcc55177
DTSTART;VALUE=DATE:20201015
DESCRIPTION:Property ID# 489007\, Time: 12:00PM
SUMMARY:Auction for 614 Whatawhata Road
END:VEVENT
END:VCALENDAR
