BEGIN:VCALENDAR
VERSION:2.0
PRODID:icalendar-ruby
CALSCALE:GREGORIAN
BEGIN:VEVENT
DTSTAMP:20210120T053105Z
UID:68cef942-46a7-4afd-a642-ec0067878d21
DTSTART;VALUE=DATE:20200827
DESCRIPTION:Property ID# 486438\, Locatoin: 96 Ulster Street\, Hamilton\, T
 ime: 11:00AM
SUMMARY:Auction for 
END:VEVENT
END:VCALENDAR
