BEGIN:VCALENDAR
VERSION:2.0
PRODID:icalendar-ruby
CALSCALE:GREGORIAN
BEGIN:VEVENT
DTSTAMP:20210120T054037Z
UID:4d3b2568-721d-4ea3-9f12-d121cf4854d6
DTSTART;VALUE=DATE:20200826
DESCRIPTION:Property ID# 486196\, Locatoin: 247 Cameron Road\, Tauranga (un
 less sold prior)\, Time: 12:00PM
SUMMARY:Auction for 
END:VEVENT
END:VCALENDAR
