BEGIN:VCALENDAR
VERSION:2.0
PRODID:icalendar-ruby
CALSCALE:GREGORIAN
BEGIN:VEVENT
DTSTAMP:20210120T053115Z
UID:8e4e8598-7626-42be-aba2-0840dd1ef100
DTSTART;VALUE=DATE:20200806
DESCRIPTION:Property ID# 485058\, Locatoin: Bayleys Auction Rooms \, Time: 
 11:00AM
SUMMARY:Auction for 169 Lake Domain Road
END:VEVENT
END:VCALENDAR
