BEGIN:VCALENDAR
VERSION:2.0
PRODID:icalendar-ruby
CALSCALE:GREGORIAN
BEGIN:VEVENT
DTSTAMP:20210120T053106Z
UID:8a5de435-c580-45cf-87a5-202102788173
DTSTART;VALUE=DATE:20200716
DESCRIPTION:Property ID# 482973\, Locatoin: 96 Ulster Street\, Hamilton\, T
 ime: 11:00AM
SUMMARY:Auction for 
END:VEVENT
END:VCALENDAR
