BEGIN:VCALENDAR
VERSION:2.0
PRODID:icalendar-ruby
CALSCALE:GREGORIAN
BEGIN:VEVENT
DTSTAMP:20210120T054219Z
UID:4204919f-db0c-4625-b599-abce5a6a356e
DTSTART;VALUE=DATE:20200709
DESCRIPTION:Property ID# 482736\, Locatoin: 96 Ulster Street\, Hamilton\, T
 ime: 11:00AM
SUMMARY:Auction for 
END:VEVENT
END:VCALENDAR
