BEGIN:VCALENDAR
VERSION:2.0
PRODID:icalendar-ruby
CALSCALE:GREGORIAN
BEGIN:VEVENT
DTSTAMP:20210120T054021Z
UID:6ef03792-ddcb-49c5-8777-6acb2a404efb
DTSTART;VALUE=DATE:20200708
DESCRIPTION:Property ID# 482591\, Locatoin: 247 Cameron Road\, Tauranga\, T
 ime: 1:00PM
SUMMARY:Auction for 
END:VEVENT
END:VCALENDAR
