BEGIN:VCALENDAR
VERSION:2.0
PRODID:icalendar-ruby
CALSCALE:GREGORIAN
BEGIN:VEVENT
DTSTAMP:20210120T053601Z
UID:8917725c-3617-4348-babc-80f44425833e
DTSTART;VALUE=DATE:20200618
DESCRIPTION:Property ID# 481244\, Locatoin: 96 Ulster Street\, Hamilton\, T
 ime: 11:00AM
SUMMARY:Auction for 
END:VEVENT
END:VCALENDAR
