BEGIN:VCALENDAR
VERSION:2.0
PRODID:icalendar-ruby
CALSCALE:GREGORIAN
BEGIN:VEVENT
DTSTAMP:20210120T052854Z
UID:1d41191e-7247-457a-a780-58467f4f0785
DTSTART;VALUE=DATE:20200630
DESCRIPTION:Property ID# 480944\, Locatoin: 96 Ulster Street\, Hamilton\, T
 ime: 4:00PM
SUMMARY:Auction for 
END:VEVENT
END:VCALENDAR
