BEGIN:VCALENDAR
VERSION:2.0
PRODID:icalendar-ruby
CALSCALE:GREGORIAN
BEGIN:VEVENT
DTSTAMP:20210120T054023Z
UID:3ae5ad95-f608-4f4b-af0d-64ded64ad1b8
DTSTART;VALUE=DATE:20200605
DESCRIPTION:Property ID# 476591\, Locatoin: 247 Cameron Road\, Tauranga\, T
 ime: 11:00AM
SUMMARY:Auction for 
END:VEVENT
END:VCALENDAR
