BEGIN:VCALENDAR
VERSION:2.0
PRODID:icalendar-ruby
CALSCALE:GREGORIAN
BEGIN:VEVENT
DTSTAMP:20210120T053602Z
UID:6fc98870-efbf-41a4-9ef9-67e46843494f
DTSTART;VALUE=DATE:20200319
DESCRIPTION:Property ID# 473943\, Locatoin: 96 Ulster Street\, Hamilton\, T
 ime: 11:00AM
SUMMARY:Auction for 
END:VEVENT
END:VCALENDAR
